BEGIN:VCALENDAR
VERSION:2.0
PRODID:-//SEA Community Help Resource Center - ECPv6.15.20//NONSGML v1.0//EN
CALSCALE:GREGORIAN
METHOD:PUBLISH
X-WR-CALNAME:SEA Community Help Resource Center
X-ORIGINAL-URL:https://www.seachrc.org
X-WR-CALDESC:Events for SEA Community Help Resource Center
REFRESH-INTERVAL;VALUE=DURATION:PT1H
X-Robots-Tag:noindex
X-PUBLISHED-TTL:PT1H
BEGIN:VTIMEZONE
TZID:UTC
BEGIN:STANDARD
TZOFFSETFROM:+0000
TZOFFSETTO:+0000
TZNAME:UTC
DTSTART:20230101T000000
END:STANDARD
END:VTIMEZONE
BEGIN:VEVENT
DTSTART;TZID=UTC:20240105T090000
DTEND;TZID=UTC:20240105T120000
DTSTAMP:20260420T185310
CREATED:20240826T145401Z
LAST-MODIFIED:20241106T222422Z
UID:103-1704445200-1704456000@www.seachrc.org
SUMMARY:Friday Food Giveaway
DESCRIPTION:Join us every Friday at 9am – 12pm for our weekly food giveaway!
URL:https://www.seachrc.org/event/friday-food-giveaway/
LOCATION:SEA Community Help Resource Center\, 6408 Armstrong Rd\, Elkton\, FL\, 32033\, United States
ATTACH;FMTTYPE=image/jpeg:https://www.seachrc.org/wp-content/uploads/2024/08/Picture1.jpg
END:VEVENT
BEGIN:VEVENT
DTSTART;TZID=UTC:20240105T090000
DTEND;TZID=UTC:20240105T120000
DTSTAMP:20260420T185310
CREATED:20240826T145401Z
LAST-MODIFIED:20241106T222422Z
UID:103-1704445200-1704456000@www.seachrc.org
SUMMARY:Friday Food Giveaway
DESCRIPTION:Join us every Friday at 9am – 12pm for our weekly food giveaway!
URL:https://www.seachrc.org/event/friday-food-giveaway/
LOCATION:SEA Community Help Resource Center\, 6408 Armstrong Rd\, Elkton\, FL\, 32033\, United States
ATTACH;FMTTYPE=image/jpeg:https://www.seachrc.org/wp-content/uploads/2024/08/Picture1.jpg
END:VEVENT
BEGIN:VEVENT
DTSTART;TZID=UTC:20240105T090000
DTEND;TZID=UTC:20240105T120000
DTSTAMP:20260420T185310
CREATED:20240826T145401Z
LAST-MODIFIED:20241106T222422Z
UID:103-1704445200-1704456000@www.seachrc.org
SUMMARY:Friday Food Giveaway
DESCRIPTION:Join us every Friday at 9am – 12pm for our weekly food giveaway!
URL:https://www.seachrc.org/event/friday-food-giveaway/
LOCATION:SEA Community Help Resource Center\, 6408 Armstrong Rd\, Elkton\, FL\, 32033\, United States
ATTACH;FMTTYPE=image/jpeg:https://www.seachrc.org/wp-content/uploads/2024/08/Picture1.jpg
END:VEVENT
BEGIN:VEVENT
DTSTART;TZID=UTC:20240105T090000
DTEND;TZID=UTC:20240105T120000
DTSTAMP:20260420T185310
CREATED:20240826T145401Z
LAST-MODIFIED:20241106T222422Z
UID:103-1704445200-1704456000@www.seachrc.org
SUMMARY:Friday Food Giveaway
DESCRIPTION:Join us every Friday at 9am – 12pm for our weekly food giveaway!
URL:https://www.seachrc.org/event/friday-food-giveaway/
LOCATION:SEA Community Help Resource Center\, 6408 Armstrong Rd\, Elkton\, FL\, 32033\, United States
ATTACH;FMTTYPE=image/jpeg:https://www.seachrc.org/wp-content/uploads/2024/08/Picture1.jpg
END:VEVENT
BEGIN:VEVENT
DTSTART;TZID=UTC:20240105T090000
DTEND;TZID=UTC:20240105T120000
DTSTAMP:20260420T185310
CREATED:20240826T145401Z
LAST-MODIFIED:20241106T222422Z
UID:103-1704445200-1704456000@www.seachrc.org
SUMMARY:Friday Food Giveaway
DESCRIPTION:Join us every Friday at 9am – 12pm for our weekly food giveaway!
URL:https://www.seachrc.org/event/friday-food-giveaway/
LOCATION:SEA Community Help Resource Center\, 6408 Armstrong Rd\, Elkton\, FL\, 32033\, United States
ATTACH;FMTTYPE=image/jpeg:https://www.seachrc.org/wp-content/uploads/2024/08/Picture1.jpg
END:VEVENT
BEGIN:VEVENT
DTSTART;TZID=UTC:20240105T090000
DTEND;TZID=UTC:20240105T120000
DTSTAMP:20260420T185310
CREATED:20240826T145401Z
LAST-MODIFIED:20241106T222422Z
UID:103-1704445200-1704456000@www.seachrc.org
SUMMARY:Friday Food Giveaway
DESCRIPTION:Join us every Friday at 9am – 12pm for our weekly food giveaway!
URL:https://www.seachrc.org/event/friday-food-giveaway/
LOCATION:SEA Community Help Resource Center\, 6408 Armstrong Rd\, Elkton\, FL\, 32033\, United States
ATTACH;FMTTYPE=image/jpeg:https://www.seachrc.org/wp-content/uploads/2024/08/Picture1.jpg
END:VEVENT
BEGIN:VEVENT
DTSTART;TZID=UTC:20240105T090000
DTEND;TZID=UTC:20240105T120000
DTSTAMP:20260420T185310
CREATED:20240826T145401Z
LAST-MODIFIED:20241106T222422Z
UID:103-1704445200-1704456000@www.seachrc.org
SUMMARY:Friday Food Giveaway
DESCRIPTION:Join us every Friday at 9am – 12pm for our weekly food giveaway!
URL:https://www.seachrc.org/event/friday-food-giveaway/
LOCATION:SEA Community Help Resource Center\, 6408 Armstrong Rd\, Elkton\, FL\, 32033\, United States
ATTACH;FMTTYPE=image/jpeg:https://www.seachrc.org/wp-content/uploads/2024/08/Picture1.jpg
END:VEVENT
BEGIN:VEVENT
DTSTART;TZID=UTC:20240105T090000
DTEND;TZID=UTC:20240105T120000
DTSTAMP:20260420T185310
CREATED:20240826T145401Z
LAST-MODIFIED:20241106T222422Z
UID:103-1704445200-1704456000@www.seachrc.org
SUMMARY:Friday Food Giveaway
DESCRIPTION:Join us every Friday at 9am – 12pm for our weekly food giveaway!
URL:https://www.seachrc.org/event/friday-food-giveaway/
LOCATION:SEA Community Help Resource Center\, 6408 Armstrong Rd\, Elkton\, FL\, 32033\, United States
ATTACH;FMTTYPE=image/jpeg:https://www.seachrc.org/wp-content/uploads/2024/08/Picture1.jpg
END:VEVENT
BEGIN:VEVENT
DTSTART;TZID=UTC:20240105T090000
DTEND;TZID=UTC:20240105T120000
DTSTAMP:20260420T185310
CREATED:20240826T145401Z
LAST-MODIFIED:20241106T222422Z
UID:103-1704445200-1704456000@www.seachrc.org
SUMMARY:Friday Food Giveaway
DESCRIPTION:Join us every Friday at 9am – 12pm for our weekly food giveaway!
URL:https://www.seachrc.org/event/friday-food-giveaway/
LOCATION:SEA Community Help Resource Center\, 6408 Armstrong Rd\, Elkton\, FL\, 32033\, United States
ATTACH;FMTTYPE=image/jpeg:https://www.seachrc.org/wp-content/uploads/2024/08/Picture1.jpg
END:VEVENT
BEGIN:VEVENT
DTSTART;TZID=UTC:20240105T090000
DTEND;TZID=UTC:20240105T120000
DTSTAMP:20260420T185310
CREATED:20240826T145401Z
LAST-MODIFIED:20241106T222422Z
UID:103-1704445200-1704456000@www.seachrc.org
SUMMARY:Friday Food Giveaway
DESCRIPTION:Join us every Friday at 9am – 12pm for our weekly food giveaway!
URL:https://www.seachrc.org/event/friday-food-giveaway/
LOCATION:SEA Community Help Resource Center\, 6408 Armstrong Rd\, Elkton\, FL\, 32033\, United States
ATTACH;FMTTYPE=image/jpeg:https://www.seachrc.org/wp-content/uploads/2024/08/Picture1.jpg
END:VEVENT
BEGIN:VEVENT
DTSTART;TZID=UTC:20240105T090000
DTEND;TZID=UTC:20240105T120000
DTSTAMP:20260420T185310
CREATED:20240826T145401Z
LAST-MODIFIED:20241106T222422Z
UID:103-1704445200-1704456000@www.seachrc.org
SUMMARY:Friday Food Giveaway
DESCRIPTION:Join us every Friday at 9am – 12pm for our weekly food giveaway!
URL:https://www.seachrc.org/event/friday-food-giveaway/
LOCATION:SEA Community Help Resource Center\, 6408 Armstrong Rd\, Elkton\, FL\, 32033\, United States
ATTACH;FMTTYPE=image/jpeg:https://www.seachrc.org/wp-content/uploads/2024/08/Picture1.jpg
END:VEVENT
BEGIN:VEVENT
DTSTART;TZID=UTC:20240105T090000
DTEND;TZID=UTC:20240105T120000
DTSTAMP:20260420T185310
CREATED:20240826T145401Z
LAST-MODIFIED:20241106T222422Z
UID:103-1704445200-1704456000@www.seachrc.org
SUMMARY:Friday Food Giveaway
DESCRIPTION:Join us every Friday at 9am – 12pm for our weekly food giveaway!
URL:https://www.seachrc.org/event/friday-food-giveaway/
LOCATION:SEA Community Help Resource Center\, 6408 Armstrong Rd\, Elkton\, FL\, 32033\, United States
ATTACH;FMTTYPE=image/jpeg:https://www.seachrc.org/wp-content/uploads/2024/08/Picture1.jpg
END:VEVENT
BEGIN:VEVENT
DTSTART;TZID=UTC:20240105T090000
DTEND;TZID=UTC:20240105T120000
DTSTAMP:20260420T185310
CREATED:20240826T145401Z
LAST-MODIFIED:20241106T222422Z
UID:103-1704445200-1704456000@www.seachrc.org
SUMMARY:Friday Food Giveaway
DESCRIPTION:Join us every Friday at 9am – 12pm for our weekly food giveaway!
URL:https://www.seachrc.org/event/friday-food-giveaway/
LOCATION:SEA Community Help Resource Center\, 6408 Armstrong Rd\, Elkton\, FL\, 32033\, United States
ATTACH;FMTTYPE=image/jpeg:https://www.seachrc.org/wp-content/uploads/2024/08/Picture1.jpg
END:VEVENT
BEGIN:VEVENT
DTSTART;TZID=UTC:20240105T090000
DTEND;TZID=UTC:20240105T120000
DTSTAMP:20260420T185310
CREATED:20240826T145401Z
LAST-MODIFIED:20241106T222422Z
UID:103-1704445200-1704456000@www.seachrc.org
SUMMARY:Friday Food Giveaway
DESCRIPTION:Join us every Friday at 9am – 12pm for our weekly food giveaway!
URL:https://www.seachrc.org/event/friday-food-giveaway/
LOCATION:SEA Community Help Resource Center\, 6408 Armstrong Rd\, Elkton\, FL\, 32033\, United States
ATTACH;FMTTYPE=image/jpeg:https://www.seachrc.org/wp-content/uploads/2024/08/Picture1.jpg
END:VEVENT
BEGIN:VEVENT
DTSTART;TZID=UTC:20240105T090000
DTEND;TZID=UTC:20240105T120000
DTSTAMP:20260420T185310
CREATED:20240826T145401Z
LAST-MODIFIED:20241106T222422Z
UID:103-1704445200-1704456000@www.seachrc.org
SUMMARY:Friday Food Giveaway
DESCRIPTION:Join us every Friday at 9am – 12pm for our weekly food giveaway!
URL:https://www.seachrc.org/event/friday-food-giveaway/
LOCATION:SEA Community Help Resource Center\, 6408 Armstrong Rd\, Elkton\, FL\, 32033\, United States
ATTACH;FMTTYPE=image/jpeg:https://www.seachrc.org/wp-content/uploads/2024/08/Picture1.jpg
END:VEVENT
BEGIN:VEVENT
DTSTART;TZID=UTC:20240105T090000
DTEND;TZID=UTC:20240105T120000
DTSTAMP:20260420T185310
CREATED:20240826T145401Z
LAST-MODIFIED:20241106T222422Z
UID:103-1704445200-1704456000@www.seachrc.org
SUMMARY:Friday Food Giveaway
DESCRIPTION:Join us every Friday at 9am – 12pm for our weekly food giveaway!
URL:https://www.seachrc.org/event/friday-food-giveaway/
LOCATION:SEA Community Help Resource Center\, 6408 Armstrong Rd\, Elkton\, FL\, 32033\, United States
ATTACH;FMTTYPE=image/jpeg:https://www.seachrc.org/wp-content/uploads/2024/08/Picture1.jpg
END:VEVENT
BEGIN:VEVENT
DTSTART;TZID=UTC:20240105T090000
DTEND;TZID=UTC:20240105T120000
DTSTAMP:20260420T185310
CREATED:20240826T145401Z
LAST-MODIFIED:20241106T222422Z
UID:103-1704445200-1704456000@www.seachrc.org
SUMMARY:Friday Food Giveaway
DESCRIPTION:Join us every Friday at 9am – 12pm for our weekly food giveaway!
URL:https://www.seachrc.org/event/friday-food-giveaway/
LOCATION:SEA Community Help Resource Center\, 6408 Armstrong Rd\, Elkton\, FL\, 32033\, United States
ATTACH;FMTTYPE=image/jpeg:https://www.seachrc.org/wp-content/uploads/2024/08/Picture1.jpg
END:VEVENT
BEGIN:VEVENT
DTSTART;TZID=UTC:20240105T090000
DTEND;TZID=UTC:20240105T120000
DTSTAMP:20260420T185310
CREATED:20240826T145401Z
LAST-MODIFIED:20241106T222422Z
UID:103-1704445200-1704456000@www.seachrc.org
SUMMARY:Friday Food Giveaway
DESCRIPTION:Join us every Friday at 9am – 12pm for our weekly food giveaway!
URL:https://www.seachrc.org/event/friday-food-giveaway/
LOCATION:SEA Community Help Resource Center\, 6408 Armstrong Rd\, Elkton\, FL\, 32033\, United States
ATTACH;FMTTYPE=image/jpeg:https://www.seachrc.org/wp-content/uploads/2024/08/Picture1.jpg
END:VEVENT
BEGIN:VEVENT
DTSTART;TZID=UTC:20240105T090000
DTEND;TZID=UTC:20240105T120000
DTSTAMP:20260420T185310
CREATED:20240826T145401Z
LAST-MODIFIED:20241106T222422Z
UID:103-1704445200-1704456000@www.seachrc.org
SUMMARY:Friday Food Giveaway
DESCRIPTION:Join us every Friday at 9am – 12pm for our weekly food giveaway!
URL:https://www.seachrc.org/event/friday-food-giveaway/
LOCATION:SEA Community Help Resource Center\, 6408 Armstrong Rd\, Elkton\, FL\, 32033\, United States
ATTACH;FMTTYPE=image/jpeg:https://www.seachrc.org/wp-content/uploads/2024/08/Picture1.jpg
END:VEVENT
BEGIN:VEVENT
DTSTART;TZID=UTC:20240105T090000
DTEND;TZID=UTC:20240105T120000
DTSTAMP:20260420T185310
CREATED:20240826T145401Z
LAST-MODIFIED:20241106T222422Z
UID:103-1704445200-1704456000@www.seachrc.org
SUMMARY:Friday Food Giveaway
DESCRIPTION:Join us every Friday at 9am – 12pm for our weekly food giveaway!
URL:https://www.seachrc.org/event/friday-food-giveaway/
LOCATION:SEA Community Help Resource Center\, 6408 Armstrong Rd\, Elkton\, FL\, 32033\, United States
ATTACH;FMTTYPE=image/jpeg:https://www.seachrc.org/wp-content/uploads/2024/08/Picture1.jpg
END:VEVENT
BEGIN:VEVENT
DTSTART;TZID=UTC:20240105T090000
DTEND;TZID=UTC:20240105T120000
DTSTAMP:20260420T185310
CREATED:20240826T145401Z
LAST-MODIFIED:20241106T222422Z
UID:103-1704445200-1704456000@www.seachrc.org
SUMMARY:Friday Food Giveaway
DESCRIPTION:Join us every Friday at 9am – 12pm for our weekly food giveaway!
URL:https://www.seachrc.org/event/friday-food-giveaway/
LOCATION:SEA Community Help Resource Center\, 6408 Armstrong Rd\, Elkton\, FL\, 32033\, United States
ATTACH;FMTTYPE=image/jpeg:https://www.seachrc.org/wp-content/uploads/2024/08/Picture1.jpg
END:VEVENT
BEGIN:VEVENT
DTSTART;TZID=UTC:20240105T090000
DTEND;TZID=UTC:20240105T120000
DTSTAMP:20260420T185310
CREATED:20240826T145401Z
LAST-MODIFIED:20241106T222422Z
UID:103-1704445200-1704456000@www.seachrc.org
SUMMARY:Friday Food Giveaway
DESCRIPTION:Join us every Friday at 9am – 12pm for our weekly food giveaway!
URL:https://www.seachrc.org/event/friday-food-giveaway/
LOCATION:SEA Community Help Resource Center\, 6408 Armstrong Rd\, Elkton\, FL\, 32033\, United States
ATTACH;FMTTYPE=image/jpeg:https://www.seachrc.org/wp-content/uploads/2024/08/Picture1.jpg
END:VEVENT
BEGIN:VEVENT
DTSTART;TZID=UTC:20240105T090000
DTEND;TZID=UTC:20240105T120000
DTSTAMP:20260420T185310
CREATED:20240826T145401Z
LAST-MODIFIED:20241106T222422Z
UID:103-1704445200-1704456000@www.seachrc.org
SUMMARY:Friday Food Giveaway
DESCRIPTION:Join us every Friday at 9am – 12pm for our weekly food giveaway!
URL:https://www.seachrc.org/event/friday-food-giveaway/
LOCATION:SEA Community Help Resource Center\, 6408 Armstrong Rd\, Elkton\, FL\, 32033\, United States
ATTACH;FMTTYPE=image/jpeg:https://www.seachrc.org/wp-content/uploads/2024/08/Picture1.jpg
END:VEVENT
BEGIN:VEVENT
DTSTART;TZID=UTC:20240105T090000
DTEND;TZID=UTC:20240105T120000
DTSTAMP:20260420T185310
CREATED:20240826T145401Z
LAST-MODIFIED:20241106T222422Z
UID:103-1704445200-1704456000@www.seachrc.org
SUMMARY:Friday Food Giveaway
DESCRIPTION:Join us every Friday at 9am – 12pm for our weekly food giveaway!
URL:https://www.seachrc.org/event/friday-food-giveaway/
LOCATION:SEA Community Help Resource Center\, 6408 Armstrong Rd\, Elkton\, FL\, 32033\, United States
ATTACH;FMTTYPE=image/jpeg:https://www.seachrc.org/wp-content/uploads/2024/08/Picture1.jpg
END:VEVENT
BEGIN:VEVENT
DTSTART;TZID=UTC:20240105T090000
DTEND;TZID=UTC:20240105T120000
DTSTAMP:20260420T185310
CREATED:20240826T145401Z
LAST-MODIFIED:20241106T222422Z
UID:103-1704445200-1704456000@www.seachrc.org
SUMMARY:Friday Food Giveaway
DESCRIPTION:Join us every Friday at 9am – 12pm for our weekly food giveaway!
URL:https://www.seachrc.org/event/friday-food-giveaway/
LOCATION:SEA Community Help Resource Center\, 6408 Armstrong Rd\, Elkton\, FL\, 32033\, United States
ATTACH;FMTTYPE=image/jpeg:https://www.seachrc.org/wp-content/uploads/2024/08/Picture1.jpg
END:VEVENT
BEGIN:VEVENT
DTSTART;TZID=UTC:20240105T090000
DTEND;TZID=UTC:20240105T120000
DTSTAMP:20260420T185310
CREATED:20240826T145401Z
LAST-MODIFIED:20241106T222422Z
UID:103-1704445200-1704456000@www.seachrc.org
SUMMARY:Friday Food Giveaway
DESCRIPTION:Join us every Friday at 9am – 12pm for our weekly food giveaway!
URL:https://www.seachrc.org/event/friday-food-giveaway/
LOCATION:SEA Community Help Resource Center\, 6408 Armstrong Rd\, Elkton\, FL\, 32033\, United States
ATTACH;FMTTYPE=image/jpeg:https://www.seachrc.org/wp-content/uploads/2024/08/Picture1.jpg
END:VEVENT
BEGIN:VEVENT
DTSTART;TZID=UTC:20240105T090000
DTEND;TZID=UTC:20240105T120000
DTSTAMP:20260420T185310
CREATED:20240826T145401Z
LAST-MODIFIED:20241106T222422Z
UID:103-1704445200-1704456000@www.seachrc.org
SUMMARY:Friday Food Giveaway
DESCRIPTION:Join us every Friday at 9am – 12pm for our weekly food giveaway!
URL:https://www.seachrc.org/event/friday-food-giveaway/
LOCATION:SEA Community Help Resource Center\, 6408 Armstrong Rd\, Elkton\, FL\, 32033\, United States
ATTACH;FMTTYPE=image/jpeg:https://www.seachrc.org/wp-content/uploads/2024/08/Picture1.jpg
END:VEVENT
BEGIN:VEVENT
DTSTART;TZID=UTC:20240105T090000
DTEND;TZID=UTC:20240105T120000
DTSTAMP:20260420T185310
CREATED:20240826T145401Z
LAST-MODIFIED:20241106T222422Z
UID:103-1704445200-1704456000@www.seachrc.org
SUMMARY:Friday Food Giveaway
DESCRIPTION:Join us every Friday at 9am – 12pm for our weekly food giveaway!
URL:https://www.seachrc.org/event/friday-food-giveaway/
LOCATION:SEA Community Help Resource Center\, 6408 Armstrong Rd\, Elkton\, FL\, 32033\, United States
ATTACH;FMTTYPE=image/jpeg:https://www.seachrc.org/wp-content/uploads/2024/08/Picture1.jpg
END:VEVENT
BEGIN:VEVENT
DTSTART;TZID=UTC:20241220T090000
DTEND;TZID=UTC:20241220T170000
DTSTAMP:20260420T185310
CREATED:20240925T121618Z
LAST-MODIFIED:20241122T205711Z
UID:370-1734685200-1734714000@www.seachrc.org
SUMMARY:Christmas Basket & Gifts For Kids Giveaway
DESCRIPTION:Come one come all. We will be giving out Christmas food baskets and  Santa will be giving out toys all kids. You and your kids must be present to receive all items.
URL:https://www.seachrc.org/event/christmas-ham-basket-giveaway/
LOCATION:SEA Community Help Resource Center\, 6408 Armstrong Rd\, Elkton\, FL\, 32033\, United States
ATTACH;FMTTYPE=image/jpeg:https://www.seachrc.org/wp-content/uploads/2024/10/79778723_2842579992489489_5041359026370117632_n-e1732308806908.jpg
END:VEVENT
BEGIN:VEVENT
DTSTART;TZID=UTC:20240105T090000
DTEND;TZID=UTC:20240105T120000
DTSTAMP:20260420T185310
CREATED:20240826T145401Z
LAST-MODIFIED:20241106T222422Z
UID:103-1704445200-1704456000@www.seachrc.org
SUMMARY:Friday Food Giveaway
DESCRIPTION:Join us every Friday at 9am – 12pm for our weekly food giveaway!
URL:https://www.seachrc.org/event/friday-food-giveaway/
LOCATION:SEA Community Help Resource Center\, 6408 Armstrong Rd\, Elkton\, FL\, 32033\, United States
ATTACH;FMTTYPE=image/jpeg:https://www.seachrc.org/wp-content/uploads/2024/08/Picture1.jpg
END:VEVENT
END:VCALENDAR